BEGIN:VCALENDAR
VERSION:2.0
PRODID:-//RED - ECPv6.15.20//NONSGML v1.0//EN
CALSCALE:GREGORIAN
METHOD:PUBLISH
X-WR-CALNAME:RED
X-ORIGINAL-URL:https://red-madison.com
X-WR-CALDESC:Events for RED
REFRESH-INTERVAL;VALUE=DURATION:PT1H
X-Robots-Tag:noindex
X-PUBLISHED-TTL:PT1H
BEGIN:VTIMEZONE
TZID:America/Chicago
BEGIN:DAYLIGHT
TZOFFSETFROM:-0600
TZOFFSETTO:-0500
TZNAME:CDT
DTSTART:20240310T080000
END:DAYLIGHT
BEGIN:STANDARD
TZOFFSETFROM:-0500
TZOFFSETTO:-0600
TZNAME:CST
DTSTART:20241103T070000
END:STANDARD
BEGIN:DAYLIGHT
TZOFFSETFROM:-0600
TZOFFSETTO:-0500
TZNAME:CDT
DTSTART:20250309T080000
END:DAYLIGHT
BEGIN:STANDARD
TZOFFSETFROM:-0500
TZOFFSETTO:-0600
TZNAME:CST
DTSTART:20251102T070000
END:STANDARD
BEGIN:DAYLIGHT
TZOFFSETFROM:-0600
TZOFFSETTO:-0500
TZNAME:CDT
DTSTART:20260308T080000
END:DAYLIGHT
BEGIN:STANDARD
TZOFFSETFROM:-0500
TZOFFSETTO:-0600
TZNAME:CST
DTSTART:20261101T070000
END:STANDARD
END:VTIMEZONE
BEGIN:VEVENT
DTSTART;TZID=America/Chicago:20250806T180000
DTEND;TZID=America/Chicago:20250806T200000
DTSTAMP:20260423T133006
CREATED:20250718T230235Z
LAST-MODIFIED:20251029T104547Z
UID:7202-1754503200-1754510400@red-madison.com
SUMMARY:Watch Your Kids Become Sushi Chefs
DESCRIPTION:Let your little one get creative in the kitchen—our popular Kids Sushi Class is back! \n We’re hosting a fun\, hands-on sushi class designed just for kids. This interactive experience will give them the chance to learn how to roll\, shape\, and enjoy their very own sushi creations. It’s the perfect opportunity for kids to explore new flavors\, develop a love for cooking\, and\, of course\, have a blast while doing it. \n* All ages welcome\, recommended for ages 5-17. A paying parent or guardian must accompany each child. \nClick here to get your tickets
URL:https://red-madison.com/event/watch-your-kids-become-sushi-chefs-3/
LOCATION:RED\, 316 West Washington Avenue\, Madison\, WI\, 53703\, United States
END:VEVENT
BEGIN:VEVENT
DTSTART;TZID=America/Chicago:20250813T180000
DTEND;TZID=America/Chicago:20250813T200000
DTSTAMP:20260423T133006
CREATED:20250728T151026Z
LAST-MODIFIED:20251029T104554Z
UID:7228-1755108000-1755115200@red-madison.com
SUMMARY:Sushi 101: A Journey Into the Art of Sushi Making
DESCRIPTION:Join the incredibly talented Salvador Arredondo\, Executive Sushi Chef at RED and Jacknife\, for this hands-on class where you’ll learn the skills to create perfect sushi rolls\, nigiri\, and even discover the magic behind the ingredients. \nBy the end of the class\, you’ll indulge in your handcrafted sushi and finish on a sweet note with our signature Lychee Sorbet. \nThe Menu: \n\nSalmon Lover\nSalmon Nigiri/Big Eye Tuna Nigiri\nHamachi Jalapeno\nLychee Sorbet\nBeverage Pairing – Lychee Martini\, Beer\, Wine\, or Mocktail.\n\nGuests will be seated in our Vermillian Room. This is a communal experience. The class will run for two hours. \nTickets are available now!
URL:https://red-madison.com/event/sushi-101-a-journey-into-the-art-of-sushi-making-7/
LOCATION:RED\, 316 West Washington Avenue\, Madison\, WI\, 53703\, United States
END:VEVENT
END:VCALENDAR