BEGIN:VCALENDAR
VERSION:2.0
PRODID:-//RED - ECPv6.15.20//NONSGML v1.0//EN
CALSCALE:GREGORIAN
METHOD:PUBLISH
X-ORIGINAL-URL:https://red-madison.com
X-WR-CALDESC:Events for RED
REFRESH-INTERVAL;VALUE=DURATION:PT1H
X-Robots-Tag:noindex
X-PUBLISHED-TTL:PT1H
BEGIN:VTIMEZONE
TZID:America/Chicago
BEGIN:DAYLIGHT
TZOFFSETFROM:-0600
TZOFFSETTO:-0500
TZNAME:CDT
DTSTART:20240310T080000
END:DAYLIGHT
BEGIN:STANDARD
TZOFFSETFROM:-0500
TZOFFSETTO:-0600
TZNAME:CST
DTSTART:20241103T070000
END:STANDARD
BEGIN:DAYLIGHT
TZOFFSETFROM:-0600
TZOFFSETTO:-0500
TZNAME:CDT
DTSTART:20250309T080000
END:DAYLIGHT
BEGIN:STANDARD
TZOFFSETFROM:-0500
TZOFFSETTO:-0600
TZNAME:CST
DTSTART:20251102T070000
END:STANDARD
BEGIN:DAYLIGHT
TZOFFSETFROM:-0600
TZOFFSETTO:-0500
TZNAME:CDT
DTSTART:20260308T080000
END:DAYLIGHT
BEGIN:STANDARD
TZOFFSETFROM:-0500
TZOFFSETTO:-0600
TZNAME:CST
DTSTART:20261101T070000
END:STANDARD
END:VTIMEZONE
BEGIN:VEVENT
DTSTART;TZID=America/Chicago:20250607T120000
DTEND;TZID=America/Chicago:20250607T140000
DTSTAMP:20260423T165229
CREATED:20250430T032324Z
LAST-MODIFIED:20251029T104312Z
UID:6969-1749297600-1749304800@red-madison.com
SUMMARY:RED Presents: An Exclusive Ikebana Experience — Art in Bloom
DESCRIPTION:Discover the timeless beauty of Ikebana\, the Japanese art of flower arranging\, in a serene\, hands-on workshop at RED. \nRooted in harmony\, simplicity\, and an appreciation for seasonal beauty\, Ikebana offers a mindful\, meditative experience through floral design. \nUnder the guidance of instructor Judith Rowell\, you’ll learn the fundamental techniques and principles behind creating your own stunning arrangement. \nThis workshop is open to all levels — whether you’re brand new or looking to deepen your creative connection with nature. \nAll materials\, tools\, and lunch are included. \nWhat’s Included: \n• Fresh seasonal flowers and foliage \n• Vase \n• Kenzan/Frogger \n• Garden shears \n• Light seasonal lunch and beverages \nWorkshop Highlights: \n• Learn the symbolism behind traditional Ikebana materials \n• Explore seasonal highlights in floral art \n• Create your own unique arrangement using fresh flowers\, branches\, rocks\, and more.. \nDate: Saturday\, June 7\, 2025 \nTime: Class starts at 12:00 p.m. \nInstructor: Judith Rowell \nBOOK YOUR TICKET NOW!
URL:https://red-madison.com/event/red-presents-an-exclusive-ikebana-experience-art-in-bloom/
LOCATION:RED\, 316 West Washington Avenue\, Madison\, WI\, 53703\, United States
END:VEVENT
BEGIN:VEVENT
DTSTART;TZID=America/Chicago:20250611T180000
DTEND;TZID=America/Chicago:20250611T200000
DTSTAMP:20260423T165229
CREATED:20250425T205440Z
LAST-MODIFIED:20251029T104318Z
UID:6957-1749664800-1749672000@red-madison.com
SUMMARY:Sushi 101: A Journey Into the Art of Sushi Making
DESCRIPTION:Be a part of history with RED’s very first sushi-making class! Join the incredibly talented Salvador Arredondo\, Executive Sushi Chef at RED and Jacknife\, for this hands-on class where you’ll learn the skills to create perfect sushi rolls\, nigiri\, and even discover the magic behind the ingredients. \nBy the end of the class\, you’ll indulge in your handcrafted sushi and finish on a sweet note with our signature Lychee Sorbet. \nThe Menu: Spicy Tuna roll\, Salmon & Avocado roll\, Hamachi Nigiri\, Vegan Hand Roll\, Lychee Sorbet\, and a beverage Pairing – Lychee Martini\, Beer\, Wine\, or Mocktail. \nGuests will be seated in our Vermillion Room. This is a communal experience. The class will run for two hours. \nTickets are available now!
URL:https://red-madison.com/event/sushi-101-a-journey-into-the-art-of-sushi-making-6/
LOCATION:RED\, 316 West Washington Avenue\, Madison\, WI\, 53703\, United States
END:VEVENT
BEGIN:VEVENT
DTSTART;TZID=America/Chicago:20250618T163000
DTEND;TZID=America/Chicago:20250621T210000
DTSTAMP:20260423T165229
CREATED:20250529T175928Z
LAST-MODIFIED:20251029T104325Z
UID:7065-1750264200-1750539600@red-madison.com
SUMMARY:From Tokyo to Your Table — Celebrate International Sushi Week With Us!
DESCRIPTION:We’re featuring our exclusive Toyosu Market Dinner\, showcasing a selection of rare\, specialty fish flown in from Japan’s famed Toyosu Market — plus additional limited-time dishes crafted just for the occasion. \nInternational Sushi Week Special Additions \nReservations
URL:https://red-madison.com/event/from-tokyo-to-your-table-celebrate-international-sushi-week-with-us/
LOCATION:RED\, 316 West Washington Avenue\, Madison\, WI\, 53703\, United States
END:VEVENT
BEGIN:VEVENT
DTSTART;TZID=America/Chicago:20250622T120000
DTEND;TZID=America/Chicago:20250622T140000
DTSTAMP:20260423T165229
CREATED:20250529T171518Z
LAST-MODIFIED:20251029T104534Z
UID:7062-1750593600-1750600800@red-madison.com
SUMMARY:Watch Your Kids Become Sushi Chefs
DESCRIPTION:Let your little one get creative in the kitchen! We’re hosting a fun\, hands-on sushi class designed just for kids. This interactive experience will give them the chance to learn how to roll\, shape\, and enjoy their very own sushi creations. It’s the perfect opportunity for kids to explore new flavors\, develop a love for cooking\, and\, of course\, have a blast while doing it. \n* All ages welcome\, recommended for ages 5-17. A paying parent or guardian must accompany each child.
URL:https://red-madison.com/event/watch-your-kids-become-sushi-chefs-2/
LOCATION:RED\, 316 West Washington Avenue\, Madison\, WI\, 53703\, United States
END:VEVENT
END:VCALENDAR