BEGIN:VCALENDAR
VERSION:2.0
PRODID:-//RED - ECPv6.15.20//NONSGML v1.0//EN
CALSCALE:GREGORIAN
METHOD:PUBLISH
X-ORIGINAL-URL:https://red-madison.com
X-WR-CALDESC:Events for RED
REFRESH-INTERVAL;VALUE=DURATION:PT1H
X-Robots-Tag:noindex
X-PUBLISHED-TTL:PT1H
BEGIN:VTIMEZONE
TZID:America/Chicago
BEGIN:DAYLIGHT
TZOFFSETFROM:-0600
TZOFFSETTO:-0500
TZNAME:CDT
DTSTART:20240310T080000
END:DAYLIGHT
BEGIN:STANDARD
TZOFFSETFROM:-0500
TZOFFSETTO:-0600
TZNAME:CST
DTSTART:20241103T070000
END:STANDARD
BEGIN:DAYLIGHT
TZOFFSETFROM:-0600
TZOFFSETTO:-0500
TZNAME:CDT
DTSTART:20250309T080000
END:DAYLIGHT
BEGIN:STANDARD
TZOFFSETFROM:-0500
TZOFFSETTO:-0600
TZNAME:CST
DTSTART:20251102T070000
END:STANDARD
BEGIN:DAYLIGHT
TZOFFSETFROM:-0600
TZOFFSETTO:-0500
TZNAME:CDT
DTSTART:20260308T080000
END:DAYLIGHT
BEGIN:STANDARD
TZOFFSETFROM:-0500
TZOFFSETTO:-0600
TZNAME:CST
DTSTART:20261101T070000
END:STANDARD
BEGIN:DAYLIGHT
TZOFFSETFROM:-0600
TZOFFSETTO:-0500
TZNAME:CDT
DTSTART:20270314T080000
END:DAYLIGHT
BEGIN:STANDARD
TZOFFSETFROM:-0500
TZOFFSETTO:-0600
TZNAME:CST
DTSTART:20271107T070000
END:STANDARD
END:VTIMEZONE
BEGIN:VEVENT
DTSTART;VALUE=DATE:20251001
DTEND;VALUE=DATE:20260326
DTSTAMP:20260423T102728
CREATED:20251028T181622Z
LAST-MODIFIED:20251029T104559Z
UID:7527-1759276800-1774483199@red-madison.com
SUMMARY:Blackjack Ramen- Every Wednesday
DESCRIPTION:When Wednesday hits\, the cards are on the table. From 4:30–9PM—or until sold out—we’re serving steaming bowls of Blackjack Ramen.Rich Tonkatsu. Earthy Mushroom Shoyu. Rotating specials that keep you guessing.Join us every Wednesday through the season for bold flavors\, warm bowls\, and a reason to look forward to midweek.Dine in or take it to go — no reservation needed\, just come hungry.
URL:https://red-madison.com/event/blackjack-ramen-every-wednesday/
LOCATION:RED\, 316 West Washington Avenue\, Madison\, WI\, 53703\, United States
END:VEVENT
BEGIN:VEVENT
DTSTART;TZID=America/Chicago:20251028T180000
DTEND;TZID=America/Chicago:20251028T200000
DTSTAMP:20260423T102728
CREATED:20251017T191409Z
LAST-MODIFIED:20251029T104605Z
UID:7420-1761674400-1761681600@red-madison.com
SUMMARY:A Night with Tuna
DESCRIPTION:For one night only\, Bluefin takes the spotlight. Our chefs present an eight-course journey that celebrates the beauty of a single ingredient—tuna—in every form and texture. \nFrom chu-toro sushi and negi toro hand roll to crispy shiso\, tuna spoons\, and the rich pairing of toro\, uni & ossetra\, each course reveals a new side of this extraordinary fish. \nMonday\, October 28\, 6-8PM. \nReserve Your Seat 
URL:https://red-madison.com/event/a-night-with-bluefin/
LOCATION:RED\, 316 West Washington Avenue\, Madison\, WI\, 53703\, United States
END:VEVENT
END:VCALENDAR